BEGIN:VCALENDAR
VERSION:2.0
PRODID:-//Family Bonding Care Home - ECPv6.7.0//NONSGML v1.0//EN
CALSCALE:GREGORIAN
METHOD:PUBLISH
X-ORIGINAL-URL:https://fbcarehome.com
X-WR-CALDESC:Events for Family Bonding Care Home
REFRESH-INTERVAL;VALUE=DURATION:PT1H
X-Robots-Tag:noindex
X-PUBLISHED-TTL:PT1H
BEGIN:VTIMEZONE
TZID:UTC
BEGIN:STANDARD
TZOFFSETFROM:+0000
TZOFFSETTO:+0000
TZNAME:UTC
DTSTART:20190101T000000
END:STANDARD
END:VTIMEZONE
BEGIN:VEVENT
DTSTART;TZID=UTC:20190901T200000
DTEND;TZID=UTC:20190901T200000
DTSTAMP:20260421T154957
CREATED:20180517T075411Z
LAST-MODIFIED:20180517T075411Z
UID:567-1567368000-1567368000@fbcarehome.com
SUMMARY:Rock Concert
DESCRIPTION:Hey\, Luke! May the Force be with you. Look\, I ain’t in this for your revolution\, and I’m not in it for you\, Princess. I expect to be well paid. I’m in it for the money. Ye-ha! What good is a reward if you ain’t around to use it? Besides\, attacking that battle station ain’t my idea of courage. It’s more like…suicide. Hey\, Luke! May the Force be with you. But with the blast shield down\, I can’t even see! How am I supposed to fight?
URL:https://fbcarehome.com/event/rock-concert/
LOCATION:Doug Fir Lounge\, 830 E. Burnside St.\, Portland\, OR\, 97214\, United States
CATEGORIES:Nightlife
ORGANIZER;CN="Elvis Presley":MAILTO:rocknroll@hotmail.com
END:VEVENT
BEGIN:VEVENT
DTSTART;TZID=UTC:20190803T200000
DTEND;TZID=UTC:20190803T200000
DTSTAMP:20260421T154957
CREATED:20180517T075412Z
LAST-MODIFIED:20180517T075412Z
UID:568-1564862400-1564862400@fbcarehome.com
SUMMARY:Late Night Party
DESCRIPTION:Well\, I got better. Ah\, now we see the violence inherent in the system! The swallow may fly south with the sun\, and the house martin or the plover may seek warmer climes in winter\, yet these are not strangers to our land. It’s only a model. It’s only a model.
URL:https://fbcarehome.com/event/late-night-party/
LOCATION:Party Haus\, 330 S Broadway Unit 602\, Los Angelos\, CA\, 90013\, united States
CATEGORIES:Nightlife,Party
ORGANIZER;CN="Famous Amos":MAILTO:cookies@aol.com
END:VEVENT
END:VCALENDAR